BEGIN:VCALENDAR
VERSION:2.0
PRODID:spatie/icalendar-generator
DESCRIPTION:Veranstaltungen von Schweriner Rudergesellschaft
X-WR-CALDESC:Veranstaltungen von Schweriner Rudergesellschaft
REFRESH-INTERVAL;VALUE=DURATION:PT1440M
X-PUBLISHED-TTL:PT1440M
BEGIN:VTIMEZONE
TZID:Europe/Berlin
BEGIN:STANDARD
DTSTART:20221030T030000Z
TZOFFSETFROM:+0200
TZOFFSETTO:+0100
END:STANDARD
BEGIN:DAYLIGHT
DTSTART:20230326T020000Z
TZOFFSETFROM:+0100
TZOFFSETTO:+0200
END:DAYLIGHT
BEGIN:STANDARD
DTSTART:20231029T030000Z
TZOFFSETFROM:+0200
TZOFFSETTO:+0100
END:STANDARD
END:VTIMEZONE
BEGIN:VTIMEZONE
TZID:UTC
BEGIN:STANDARD
DTSTART:20250726T090634Z
TZOFFSETFROM:+0000
TZOFFSETTO:+0000
END:STANDARD
END:VTIMEZONE
BEGIN:VEVENT
UID:172-20
DTSTAMP:20260422T090634Z
SUMMARY:Kindertraining
LOCATION:Schweriner Rudergesellschaft Franzosenweg 21  Schwerin Mecklenburg
 -Vorpommern 19061
ORGANIZER;CN=Schweriner Rudergesellschaft:MAILTO:internet@schwerinerruderge
 sellschaft.de
RRULE:FREQ=WEEKLY;UNTIL=20231030T000000Z
DTSTART;TZID=Europe/Berlin:20230509T160000
DTEND;TZID=Europe/Berlin:20230509T180000
X-ALT-DESC;FMTTYPE=TEXT/HTML:<p>Kindertraining</p>\n
CATEGORIES:Kinder
URL;VALUE=URI:https://www.schwerinerrudergesellschaft.de/srg-events/kindert
 raining/?mc_id=172
METHOD:PUBLISH
END:VEVENT
END:VCALENDAR